BEGIN:VCALENDAR
VERSION:2.0
PRODID:-//wp-events-plugin.com//7.2.3.1//EN
TZID:Europe/Paris
X-WR-TIMEZONE:Europe/Paris
BEGIN:VEVENT
UID:56@cbe-sud94.org
DTSTART;TZID=Europe/Paris:20250207T140000
DTEND;TZID=Europe/Paris:20250207T170000
DTSTAMP:20250228T153622Z
URL:https://cbe-sud94.org/events/job-truck-en-route-vers-lemploi-a-thiais-
 village/
SUMMARY:JOB TRUCK: en route vers l'emploi à Thiais Village
DESCRIPTION:En recherche d'emploi ?\n\nNous vous donnons rendez-vous pour v
 ous informer sur l'emploi et les opportunités locales.\n\nGrâce à notre
  camionnette bureau mobile\, nous vous apportons un service de proximité 
 pour favoriser votre recherche d'emploi.
ATTACH;FMTTYPE=image/jpeg:https://cbe-sud94.org/wp-content/uploads/2022/05
 /JT_VISUEL-villes-2023-3-min-e1706628978233.jpg
LOCATION:Thiais Village\, Devant Décathlon \, Thiais\, France
X-APPLE-STRUCTURED-LOCATION;VALUE=URI;X-ADDRESS=Devant Décathlon \, Thiais
 \, France;X-APPLE-RADIUS=100;X-TITLE=Thiais Village:geo:0,0
END:VEVENT
BEGIN:VTIMEZONE
TZID:Europe/Paris
X-LIC-LOCATION:Europe/Paris
BEGIN:STANDARD
DTSTART:20241027T020000
TZOFFSETFROM:+0200
TZOFFSETTO:+0100
TZNAME:CET
END:STANDARD
END:VTIMEZONE
END:VCALENDAR