BEGIN:VCALENDAR
VERSION:2.0
PRODID:-//wp-events-plugin.com//7.2.3.1//EN
TZID:Europe/Paris
X-WR-TIMEZONE:Europe/Paris
BEGIN:VEVENT
UID:18@cbe-sud94.org
DTSTART;TZID=Europe/Paris:20240925T091500
DTEND;TZID=Europe/Paris:20240925T113000
DTSTAMP:20240916T074505Z
URL:https://cbe-sud94.org/events/job-truck-en-route-vers-lemploi-a-orly-2/
SUMMARY:JOB TRUCK : en route vers l'emploi à Orly
DESCRIPTION:En recherche d'emploi ?\n\nNous vous donnons rendez-vous pour v
 ous informer sur l'emploi et les opportunités locales.\n\nGrâce à notre
  camionnette bureau mobile\, nous vous apportons un service de proximité 
 pour favoriser votre recherche d'emploi.
ATTACH;FMTTYPE=image/jpeg:https://cbe-sud94.org/wp-content/uploads/2024/02
 /1.jpg
LOCATION:Place Saint Exupéry\, rue Louis Bréguet\, Orly\, France
X-APPLE-STRUCTURED-LOCATION;VALUE=URI;X-ADDRESS=rue Louis Bréguet\, Orly\,
  France;X-APPLE-RADIUS=100;X-TITLE=Place Saint Exupéry:geo:0,0
END:VEVENT
BEGIN:VTIMEZONE
TZID:Europe/Paris
X-LIC-LOCATION:Europe/Paris
BEGIN:DAYLIGHT
DTSTART:20240331T030000
TZOFFSETFROM:+0100
TZOFFSETTO:+0200
TZNAME:CEST
END:DAYLIGHT
END:VTIMEZONE
END:VCALENDAR